BEGIN:VCALENDAR
VERSION:2.0
PRODID:-//GAQ - ECPv6.15.20//NONSGML v1.0//EN
CALSCALE:GREGORIAN
METHOD:PUBLISH
X-WR-CALNAME:GAQ
X-ORIGINAL-URL:https://gaq.be
X-WR-CALDESC:Évènements pour GAQ
REFRESH-INTERVAL;VALUE=DURATION:PT1H
X-Robots-Tag:noindex
X-PUBLISHED-TTL:PT1H
BEGIN:VTIMEZONE
TZID:Europe/Brussels
BEGIN:DAYLIGHT
TZOFFSETFROM:+0100
TZOFFSETTO:+0200
TZNAME:CEST
DTSTART:20240331T010000
END:DAYLIGHT
BEGIN:STANDARD
TZOFFSETFROM:+0200
TZOFFSETTO:+0100
TZNAME:CET
DTSTART:20241027T010000
END:STANDARD
BEGIN:DAYLIGHT
TZOFFSETFROM:+0100
TZOFFSETTO:+0200
TZNAME:CEST
DTSTART:20250330T010000
END:DAYLIGHT
BEGIN:STANDARD
TZOFFSETFROM:+0200
TZOFFSETTO:+0100
TZNAME:CET
DTSTART:20251026T010000
END:STANDARD
BEGIN:DAYLIGHT
TZOFFSETFROM:+0100
TZOFFSETTO:+0200
TZNAME:CEST
DTSTART:20260329T010000
END:DAYLIGHT
BEGIN:STANDARD
TZOFFSETFROM:+0200
TZOFFSETTO:+0100
TZNAME:CET
DTSTART:20261025T010000
END:STANDARD
END:VTIMEZONE
BEGIN:VEVENT
DTSTART;TZID=Europe/Brussels:20250914T083000
DTEND;TZID=Europe/Brussels:20250914T150000
DTSTAMP:20260426T013514
CREATED:20250611T083932Z
LAST-MODIFIED:20250910T133953Z
UID:14019-1757838600-1757862000@gaq.be
SUMMARY:2025 Fête et Brocante du Quartier au Square Ambiorix
DESCRIPTION:Les inscriptions sont closes : toutes les places sont attribuées !\n\n\n\nInschrijving gesloten: alle plaatsen zijn toegewezen! \n\n\n\nRegistration closed: all places are taken! \n\n\n\nRèglement:\n\n\n\n2025 Fête du GAQ au Square Ambiorix – règlementDownload\n\n\n\n2025 GAQ Ambiorix Plan brocanteDownload
URL:https://gaq.be/evenements/2025-fete-cal/
LOCATION:Square Ambiorix\, Square Ambiorix\, Brussels\, Belgium
CATEGORIES:Fête
ATTACH;FMTTYPE=image/png:https://gaq.be/wp-content/uploads/2025/06/2025-GAQ-Brocante-poster.png
END:VEVENT
END:VCALENDAR