BEGIN:VCALENDAR
VERSION:2.0
PRODID:-//GAQ - ECPv6.15.20//NONSGML v1.0//EN
CALSCALE:GREGORIAN
METHOD:PUBLISH
X-WR-CALNAME:GAQ
X-ORIGINAL-URL:https://gaq.be
X-WR-CALDESC:Évènements pour GAQ
REFRESH-INTERVAL;VALUE=DURATION:PT1H
X-Robots-Tag:noindex
X-PUBLISHED-TTL:PT1H
BEGIN:VTIMEZONE
TZID:Europe/Brussels
BEGIN:DAYLIGHT
TZOFFSETFROM:+0100
TZOFFSETTO:+0200
TZNAME:CEST
DTSTART:20250330T010000
END:DAYLIGHT
BEGIN:STANDARD
TZOFFSETFROM:+0200
TZOFFSETTO:+0100
TZNAME:CET
DTSTART:20251026T010000
END:STANDARD
BEGIN:DAYLIGHT
TZOFFSETFROM:+0100
TZOFFSETTO:+0200
TZNAME:CEST
DTSTART:20260329T010000
END:DAYLIGHT
BEGIN:STANDARD
TZOFFSETFROM:+0200
TZOFFSETTO:+0100
TZNAME:CET
DTSTART:20261025T010000
END:STANDARD
BEGIN:DAYLIGHT
TZOFFSETFROM:+0100
TZOFFSETTO:+0200
TZNAME:CEST
DTSTART:20270328T010000
END:DAYLIGHT
BEGIN:STANDARD
TZOFFSETFROM:+0200
TZOFFSETTO:+0100
TZNAME:CET
DTSTART:20271031T010000
END:STANDARD
END:VTIMEZONE
BEGIN:VEVENT
DTSTART;TZID=Europe/Brussels:20260203T200000
DTEND;TZID=Europe/Brussels:20260203T220000
DTSTAMP:20260425T170329
CREATED:20250627T133014Z
LAST-MODIFIED:20260125T165327Z
UID:14094-1770148800-1770156000@gaq.be
SUMMARY:Mardis du GAQ = Réunion mensuelle
DESCRIPTION:Nous accueillerons Monsieur Thierry WAUTERS\, Directeur du Patrimoine chez Urban. Brussels. Il nous entretiendra du riche patrimoine culturel de notre Région. Un drink convivial suivra pour fêter la nouvelle année et souhaiter de belles réalisations au bénéfice des riverains.
URL:https://gaq.be/evenements/reunion-mensuelle-20/
ATTACH;FMTTYPE=image/webp:https://gaq.be/wp-content/uploads/2025/06/Patrimoine-bruxellois.webp
END:VEVENT
END:VCALENDAR