BEGIN:VCALENDAR
VERSION:2.0
PRODID:-//GAQ: Comité du Quartier Européen de la Ville de Bruxelles - ECPv6.15.20//NONSGML v1.0//EN
CALSCALE:GREGORIAN
METHOD:PUBLISH
X-WR-CALNAME:GAQ: Comité du Quartier Européen de la Ville de Bruxelles
X-ORIGINAL-URL:https://gaq.be/nl/
X-WR-CALDESC:Evenementen voor GAQ: Comité du Quartier Européen de la Ville de Bruxelles
REFRESH-INTERVAL;VALUE=DURATION:PT1H
X-Robots-Tag:noindex
X-PUBLISHED-TTL:PT1H
BEGIN:VTIMEZONE
TZID:Europe/Brussels
BEGIN:DAYLIGHT
TZOFFSETFROM:+0100
TZOFFSETTO:+0200
TZNAME:CEST
DTSTART:20230326T010000
END:DAYLIGHT
BEGIN:STANDARD
TZOFFSETFROM:+0200
TZOFFSETTO:+0100
TZNAME:CET
DTSTART:20231029T010000
END:STANDARD
BEGIN:DAYLIGHT
TZOFFSETFROM:+0100
TZOFFSETTO:+0200
TZNAME:CEST
DTSTART:20240331T010000
END:DAYLIGHT
BEGIN:STANDARD
TZOFFSETFROM:+0200
TZOFFSETTO:+0100
TZNAME:CET
DTSTART:20241027T010000
END:STANDARD
BEGIN:DAYLIGHT
TZOFFSETFROM:+0100
TZOFFSETTO:+0200
TZNAME:CEST
DTSTART:20250330T010000
END:DAYLIGHT
BEGIN:STANDARD
TZOFFSETFROM:+0200
TZOFFSETTO:+0100
TZNAME:CET
DTSTART:20251026T010000
END:STANDARD
BEGIN:DAYLIGHT
TZOFFSETFROM:+0100
TZOFFSETTO:+0200
TZNAME:CEST
DTSTART:20260329T010000
END:DAYLIGHT
BEGIN:STANDARD
TZOFFSETFROM:+0200
TZOFFSETTO:+0100
TZNAME:CET
DTSTART:20261025T010000
END:STANDARD
BEGIN:DAYLIGHT
TZOFFSETFROM:+0100
TZOFFSETTO:+0200
TZNAME:CEST
DTSTART:20270328T010000
END:DAYLIGHT
BEGIN:STANDARD
TZOFFSETFROM:+0200
TZOFFSETTO:+0100
TZNAME:CET
DTSTART:20271031T010000
END:STANDARD
END:VTIMEZONE
BEGIN:VEVENT
DTSTART;TZID=Europe/Brussels:20260425T080000
DTEND;TZID=Europe/Brussels:20260425T170000
DTSTAMP:20260425T185315
CREATED:20260413T151253Z
LAST-MODIFIED:20260413T152205Z
UID:15429-1777104000-1777136400@gaq.be
SUMMARY:Grote ophaling van grofvuil
DESCRIPTION:Eedgenotenstraat
URL:https://gaq.be/nl/evenements/grande-collecte-des-encombrants/
CATEGORIES:Evènement propreté
ATTACH;FMTTYPE=image/jpeg:https://gaq.be/wp-content/uploads/2026/04/2026-04-23-collecte-des-encombrants.jpg
END:VEVENT
BEGIN:VEVENT
DTSTART;TZID=Europe/Brussels:20260423T080000
DTEND;TZID=Europe/Brussels:20260423T180000
DTSTAMP:20260425T185315
CREATED:20260413T150456Z
LAST-MODIFIED:20260413T152220Z
UID:15418-1776931200-1776967200@gaq.be
SUMMARY:Grote ophaling van grofvuil  (met proxy-chimik)
DESCRIPTION:Eedgenotenstraat (met Proxy Chimik)
URL:https://gaq.be/nl/evenements/grande-collecte-des-encombrants-24/
CATEGORIES:Evènement propreté
ATTACH;FMTTYPE=image/jpeg:https://gaq.be/wp-content/uploads/2026/04/2026-04-23-collecte-des-encombrants.jpg
END:VEVENT
BEGIN:VEVENT
DTSTART;TZID=Europe/Brussels:20260407T200000
DTEND;TZID=Europe/Brussels:20260407T220000
DTSTAMP:20260425T185315
CREATED:20250627T133156Z
LAST-MODIFIED:20260129T150801Z
UID:14865-1775592000-1775599200@gaq.be
SUMMARY:Mardis du GAQ = Maandelijkse vergadering
DESCRIPTION:Sophie de CROMBRUGGHE\, architect en stedenbouwkundige (onder voorbehoud)\, dienst planning van de PPAS (bestemmingsplannen)\, herziening van eerdere plannen en toekomstige projecten.
URL:https://gaq.be/nl/evenements/reunion-mensuelle-22/
CATEGORIES:Les mardis du GAQ,Mardis du GAQ
END:VEVENT
BEGIN:VEVENT
DTSTART;TZID=Europe/Brussels:20260402T170000
DTEND;TZID=Europe/Brussels:20260402T190000
DTSTAMP:20260425T185315
CREATED:20260401T173549Z
LAST-MODIFIED:20260401T173923Z
UID:15357-1775149200-1775156400@gaq.be
SUMMARY:EQ Lab
DESCRIPTION:Pierre Lemaire\, ProjecthouderTerritoriale Strategie \n\n\n\n \n\n\n\n\n\n17.00 uur: Ontvangst \n\n\n\n17.15 uur: Presentatie van de stand van zaken met betrekking tot de werkzaamheden van de Taskforce QE \n\n\n\n17.45 uur: Inleiding over voetpaden in de Europese wijk \n\n\n\n18.00 uur: Rondetafelgesprekken over “Voetpaden” \n\n\n\n19.00 uur: Einde
URL:https://gaq.be/nl/evenements/eq-lab/
CATEGORIES:Evènement culturel
ATTACH;FMTTYPE=image/png:https://gaq.be/wp-content/uploads/2026/04/perspective-logo-pos-rvb-72dpi.png
END:VEVENT
BEGIN:VEVENT
DTSTART;TZID=Europe/Brussels:20260402T120000
DTEND;TZID=Europe/Brussels:20260402T140000
DTSTAMP:20260425T185315
CREATED:20260401T172056Z
LAST-MODIFIED:20260401T172708Z
UID:15343-1775131200-1775138400@gaq.be
SUMMARY:Lunchtalk: Erfgoed en circulariteit
DESCRIPTION:Deze reeks opent een dialoog over de relatie tussen erfgoed\, ecologische transitie en levenskwaliteit in de stad. \n\n\n\nErfgoed en circulariteit: een tweede leven voor materialen in de stadHoe kunnen we materialen uit bestaande gebouwen slim hergebruiken? \n\n\n\nMet: Jan de Moffarts (CRMS)\, Bruno Allardin (SAU)Moderatie: Leen De Spiegelaere (Zinneke)
URL:https://gaq.be/nl/evenements/lunchtalk-patrimoine-et-circularite/
CATEGORIES:Evènement culturel
ATTACH;FMTTYPE=image/png:https://gaq.be/wp-content/uploads/2026/04/unnamed.png
END:VEVENT
BEGIN:VEVENT
DTSTART;TZID=Europe/Brussels:20260317T000000
DTEND;TZID=Europe/Brussels:20260317T000000
DTSTAMP:20260425T185315
CREATED:20260307T113752Z
LAST-MODIFIED:20260307T161812Z
UID:15250-1773705600-1773705600@gaq.be
SUMMARY:St Patrick's Day
DESCRIPTION:Om de lokale winkels te helpen\, heeft de ACCJM (vereniging van handelaars van Carrefour Jean Monet) een grote promotieactie opgezet rond St. Patrick’s Day om aan te geven dat de wijk dé plek is voor wie dit feest in Brussel op zijn best wil vieren. Daartoe heeft de vereniging een hele reeks instrumenten ontwikkeld om de wijk in de kijker te zetten en een publiek dat de wijk nog niet kent naar de winkels te lokken.
URL:https://gaq.be/nl/evenements/st-patricks-day/
ATTACH;FMTTYPE=image/jpeg:https://gaq.be/wp-content/uploads/2026/03/St.Patrick-2026-que-faire-e1772900649220.jpg
END:VEVENT
BEGIN:VEVENT
DTSTART;TZID=Europe/Brussels:20260303T200000
DTEND;TZID=Europe/Brussels:20260303T220000
DTSTAMP:20260425T185315
CREATED:20250627T133109Z
LAST-MODIFIED:20260129T152007Z
UID:15110-1772568000-1772575200@gaq.be
SUMMARY:Mardis du GAQ = maandelijkse vergadering
DESCRIPTION:Onze gast is de heer Thomas VAN DORMAEL. \n\n\n\nThomas Vandormael werkt aan een gezamenlijk doctoraatsproefschrift (VUB en UGent) over glas-in-loodramen in woningen tijdens de Belle Époque (1880-1914) in Brussel. Hij is ook eigenaar van twee geklasseerde art-nouveauhuizen in Schaarbeek. \n\n\n\nThomas Vandormael heeft een licentiaat in de kunstwetenschappen (KU Leuven)\, een master in internationale politiek (KU Leuven)\, een master in bedrijfseconomie (KU Leuven) en een master in algemeen management (Vlerick Business School).
URL:https://gaq.be/nl/evenements/reunion-mensuelle-21/
CATEGORIES:Les mardis du GAQ,RM Réunion Mensuelle
ATTACH;FMTTYPE=image/jpeg:https://gaq.be/wp-content/uploads/2025/06/IMG_1040_2.jpg
END:VEVENT
BEGIN:VEVENT
DTSTART;TZID=Europe/Brussels:20260203T200000
DTEND;TZID=Europe/Brussels:20260203T220000
DTSTAMP:20260425T185315
CREATED:20250627T133014Z
LAST-MODIFIED:20260125T171913Z
UID:15116-1770148800-1770156000@gaq.be
SUMMARY:Mardis du GAQ = Maandelijkse vergadering
DESCRIPTION:We verwelkomen Thierry WAUTERS\, directeur Erfgoed bij Urban Brussels. Hij zal ons vertellen over het rijke culturele erfgoed van onze regio. Aansluitend is er een gezellige borrel om het nieuwe jaar te vieren en mooie resultaten voor onze wijk toe te wensen.
URL:https://gaq.be/nl/evenements/reunion-mensuelle-20/
CATEGORIES:Les mardis du GAQ
ATTACH;FMTTYPE=image/webp:https://gaq.be/wp-content/uploads/2025/06/Patrimoine-bruxellois.webp
END:VEVENT
BEGIN:VEVENT
DTSTART;TZID=Europe/Brussels:20260106T200000
DTEND;TZID=Europe/Brussels:20260106T220000
DTSTAMP:20260425T185315
CREATED:20250627T132918Z
LAST-MODIFIED:20250627T132920Z
UID:14092-1767729600-1767736800@gaq.be
SUMMARY:réunion mensuelle
DESCRIPTION:
URL:https://gaq.be/nl/evenements/reunion-mensuelle-19/
END:VEVENT
BEGIN:VEVENT
DTSTART;TZID=Europe/Brussels:20251202T200000
DTEND;TZID=Europe/Brussels:20251202T220000
DTSTAMP:20260425T185315
CREATED:20250627T132825Z
LAST-MODIFIED:20251023T133145Z
UID:14861-1764705600-1764712800@gaq.be
SUMMARY:Réunion mensuelle
DESCRIPTION:
URL:https://gaq.be/nl/evenements/reunion-mensuelle-18/
END:VEVENT
BEGIN:VEVENT
DTSTART;TZID=Europe/Brussels:20251104T200000
DTEND;TZID=Europe/Brussels:20251104T220000
DTSTAMP:20260425T185315
CREATED:20250627T132735Z
LAST-MODIFIED:20251030T100320Z
UID:14855-1762286400-1762293600@gaq.be
SUMMARY:Maandelijkse vergadering
DESCRIPTION:Om technische redenen\, namelijk de schoolvakanties\, wordt de vergadering van 4 november geannuleerd. De vergadering van december vindt wel plaats zoals gepland op 2 december.
URL:https://gaq.be/nl/evenements/reunion-mensuelle-17/
END:VEVENT
BEGIN:VEVENT
DTSTART;TZID=Europe/Brussels:20251007T200000
DTEND;TZID=Europe/Brussels:20251007T220000
DTSTAMP:20260425T185315
CREATED:20250929T075520Z
LAST-MODIFIED:20251002T165513Z
UID:14756-1759867200-1759874400@gaq.be
SUMMARY:Maandelijkse vergadering
DESCRIPTION:Vincent Heymans\, geboren in Brussel\, is licentiaat in de kunstgeschiedenis en archeologie en doctor in de filosofie en letteren. Hij leidt de Cel Historisch Erfgoed van de Stad Brussel\, die verantwoordelijk is voor het beheer en de promotie van het architectonisch erfgoed. Hij is beheerder van de archeologische site Coudenberg\, waar hij tevens wetenschappelijk directeur is\, en zetelt in de Koninklijke Commissie voor Monumenten en Landschappen van het Brussels Hoofdstedelijk Gewest. \n\n\n\nHij doceert tevens architectuurgeschiedenis aan de Université libre de Bruxelles \, ENSAV La Cambre. en aan de Ecole supérieure des Arts van Bergen. Hij heeft veel gepubliceerd\, voornamelijk over architectuurgeschiedenis en erfgoedbehoud.
URL:https://gaq.be/nl/evenements/maandelijkse-vergadering-6/
END:VEVENT
BEGIN:VEVENT
DTSTART;TZID=Europe/Brussels:20251007T200000
DTEND;TZID=Europe/Brussels:20251007T220000
DTSTAMP:20260425T185315
CREATED:20250627T132635Z
LAST-MODIFIED:20250929T074640Z
UID:14086-1759867200-1759874400@gaq.be
SUMMARY:Réunion mensuelle
DESCRIPTION:Né à Bruxelles\, Vincent Heymans est licencié en histoire de l’art et archéologie et docteur en Philosophie et Lettres. Il dirige la Cellule Patrimoine historique de la Ville de Bruxelles\, chargée de la gestion et de la valorisation du patrimoine architectural; il est administrateur du site archéologique du Coudenberg dont il assure également la direction scientifique et siège à la Commission royale des Monuments et Sites de la Région de Bruxelles-Capitale. \n\n\n\nPar ailleurs\, il enseigne l’histoire de l’architecture à l’Université libre de Bruxelles à l’ENSAV La Cambre et à L’Ecole supérieure des Arts de Mons. Il a de nombreuses publications à son actif\, principalement dans le domaine de l’histoire de l’architecture et de la conservation du patrimoine.
URL:https://gaq.be/nl/evenements/reunion-mensuelle-16/
END:VEVENT
BEGIN:VEVENT
DTSTART;TZID=Europe/Brussels:20250914T083000
DTEND;TZID=Europe/Brussels:20250914T150000
DTSTAMP:20260425T185315
CREATED:20250611T083932Z
LAST-MODIFIED:20250706T151641Z
UID:14147-1757838600-1757862000@gaq.be
SUMMARY:Feest van de GAQ op de Ambiorixsquare - 2025
DESCRIPTION:Inschrijving hier\n\n\n\nRèglement:\n\n\n\n2025 Fête du GAQ au Square Ambiorix – règlementDownload\n\n\n\n2025 GAQ Ambiorix Plan brocanteDownload\n\n\n\nInscription brocante ici
URL:https://gaq.be/nl/evenements/feest-van-de-gaq-op-de-ambiorixsquare-2025/
LOCATION:Square Ambiorix\, Square Ambiorix\, Brussels\, Belgium
CATEGORIES:Fête
ATTACH;FMTTYPE=image/png:https://gaq.be/wp-content/uploads/2025/06/2025-GAQ-Brocante-poster.png
END:VEVENT
BEGIN:VEVENT
DTSTART;TZID=Europe/Brussels:20250902T200000
DTEND;TZID=Europe/Brussels:20250902T220000
DTSTAMP:20260425T185315
CREATED:20250627T132504Z
LAST-MODIFIED:20250627T132506Z
UID:14084-1756843200-1756850400@gaq.be
SUMMARY:Réunion mensuelle
DESCRIPTION:
URL:https://gaq.be/nl/evenements/reunion-mensuelle-15/
END:VEVENT
BEGIN:VEVENT
DTSTART;TZID=Europe/Brussels:20250611T163000
DTEND;TZID=Europe/Brussels:20250611T190000
DTSTAMP:20260425T185315
CREATED:20250605T100734Z
LAST-MODIFIED:20250605T100736Z
UID:13976-1749659400-1749668400@gaq.be
SUMMARY:Fête conviviale du GAQ
DESCRIPTION:Venez partager un moment convivial avec le GAQ\, votre comité de quartier. Nous serons présents le 11 juin\, jour du marché hebdomadaire au Square Marguerite.  \n\n\n\nPartageons une rencontre informelle autour d’un verre de vin ou d’une boisson fraîche.
URL:https://gaq.be/nl/?post_type=tribe_events&p=13978
CATEGORIES:Fête
ATTACH;FMTTYPE=image/jpeg:https://gaq.be/wp-content/uploads/2024/06/water-427893.jpg
END:VEVENT
BEGIN:VEVENT
DTSTART;TZID=Europe/Brussels:20250603T200000
DTEND;TZID=Europe/Brussels:20250603T220000
DTSTAMP:20260425T185315
CREATED:20240722T104345Z
LAST-MODIFIED:20240722T104346Z
UID:12791-1748980800-1748988000@gaq.be
SUMMARY:Assemblée générale | réunion mensuelle
DESCRIPTION:Assemblée générale des membre suivie de la réunion mensuelle
URL:https://gaq.be/nl/evenements/assemblee-generale-reunion-mensuelle/
END:VEVENT
BEGIN:VEVENT
DTSTART;TZID=Europe/Brussels:20250527T190000
DTEND;TZID=Europe/Brussels:20250527T213000
DTSTAMP:20260425T185315
CREATED:20250518T172507Z
LAST-MODIFIED:20250518T172256Z
UID:13935-1748372400-1748381400@gaq.be
SUMMARY:Burgerontmoeting met het college van Burgemeester en Schepenen
DESCRIPTION:Het College van Burgemeesters en Schepenen nodigt u graag uit voor een burgerbijeenkomst om het nieuwe meerderheidsakkoord te presenteren.
URL:https://gaq.be/nl/evenements/burgerontmoeting-met-het-college-van-burgemeester-en-schepenen/
CATEGORIES:RM Réunion Mensuelle
ATTACH;FMTTYPE=image/webp:https://gaq.be/wp-content/uploads/2025/05/2025-05-27-rencontre-college-scaled.webp
END:VEVENT
BEGIN:VEVENT
DTSTART;TZID=Europe/Brussels:20250521T160000
DTEND;TZID=Europe/Brussels:20250521T200000
DTSTAMP:20260425T185315
CREATED:20250518T082603Z
LAST-MODIFIED:20250518T082626Z
UID:13923-1747843200-1747857600@gaq.be
SUMMARY:Inhuldiging van het gerenoveerde Jubelparkpaviljoen
DESCRIPTION:Dit paviljoen\, gelegen in de prachtige omgeving van het Jubelpark\, opent zijn deuren op 21 mei vanaf 16u en wordt een warme en gezellige ruimte waar we intergenerationele activiteiten kunnen organiseren voor alle inwoners van de wijk. De opening zal worden bijgewoond door politici\, vertegenwoordigers van de media\, verenigingen en buurtbewoners. Het zal een gelegenheid zijn om een gezellig moment te delen en deel te nemen aan de uitbreiding van onze gemeenschap. We nodigen je uit om samen met ons de opening van dit nieuwe gebouw te vieren\, waarvan we hopen dat het het kloppend hart van onze wijk zal worden.
URL:https://gaq.be/nl/evenements/inhuldiging-van-het-gerenoveerde-jubelparkpaviljoen/
CATEGORIES:Evènement culturel
ATTACH;FMTTYPE=image/jpeg:https://gaq.be/wp-content/uploads/2025/05/pavillon-vanoudenhove-e1747556374871.jpg
END:VEVENT
BEGIN:VEVENT
DTSTART;TZID=Europe/Brussels:20250513T200000
DTEND;TZID=Europe/Brussels:20250513T220000
DTSTAMP:20260425T185315
CREATED:20240722T104155Z
LAST-MODIFIED:20250506T161414Z
UID:13803-1747166400-1747173600@gaq.be
SUMMARY:Maandelijkse vergadering van GAQ
DESCRIPTION:Christophe le Polain\, de Development Director van Whitewood zal de projecten presenteren. \n\n\n\nBuurthuus\, Ambiorixsquare 4
URL:https://gaq.be/nl/evenements/reunion-mensuelle-du-gaq-6/
CATEGORIES:RM Réunion Mensuelle
END:VEVENT
BEGIN:VEVENT
DTSTART;TZID=Europe/Brussels:20250510T140000
DTEND;TZID=Europe/Brussels:20250510T170000
DTSTAMP:20260425T185315
CREATED:20250507T154306Z
LAST-MODIFIED:20250507T154831Z
UID:13817-1746885600-1746896400@gaq.be
SUMMARY:Bijeenkomst met de politieencontre avec la police
DESCRIPTION:Ontmoeting met vertegenwoordigers van de politie. Tijd om onze (kleine) problemen te bespreken
URL:https://gaq.be/nl/evenements/rencontre-avec-la-police/
LOCATION:Le Coin du Diable\, rue Stevin 172\, Brussels 1000
END:VEVENT
BEGIN:VEVENT
DTSTART;TZID=Europe/Brussels:20250401T200000
DTEND;TZID=Europe/Brussels:20250401T220000
DTSTAMP:20260425T185315
CREATED:20240722T104037Z
LAST-MODIFIED:20250327T082358Z
UID:12787-1743537600-1743544800@gaq.be
SUMMARY:réunion mensuelle du GAQ
DESCRIPTION:Astride Nderagakura\, facilitatrice de terrain à Bruxelles Participation\, présentera les trois artistes choisis dans le cadre d’un budget participatif\, pour la réalisation d’une fresque murale pour égayer les bâtiments du quartier. \n\n\n\nMaison de Quartier\, square Ambiorix 4
URL:https://gaq.be/nl/evenements/reunion-mensuelle-du-gaq-5/
END:VEVENT
BEGIN:VEVENT
DTSTART;TZID=Europe/Brussels:20250311T200000
DTEND;TZID=Europe/Brussels:20250311T220000
DTSTAMP:20260425T185315
CREATED:20240722T103919Z
LAST-MODIFIED:20250307T165303Z
UID:12785-1741723200-1741730400@gaq.be
SUMMARY:réunion mensuelle du GAQ
DESCRIPTION:Fréderic Ceulemans\, échevin de la rénovation urbaine\, du climat\, de la participation citoyenne et des affaires néerlandophones \n\n\n\nMaison de Quartier\, square Ambiorix 4
URL:https://gaq.be/nl/evenements/reunion-mensuelle-du-gaq-4/
END:VEVENT
BEGIN:VEVENT
DTSTART;TZID=Europe/Brussels:20250211T200000
DTEND;TZID=Europe/Brussels:20250211T223000
DTSTAMP:20260425T185315
CREATED:20240722T103752Z
LAST-MODIFIED:20250206T152933Z
UID:12783-1739304000-1739313000@gaq.be
SUMMARY:réunion mensuelle du QAG
DESCRIPTION:David Weytsman\, Président du CPAS de Bruxelles \n\n\n\n \n\n\n\nMaison de quartier\, Square Ambiorix 4
URL:https://gaq.be/nl/evenements/reunion-mensuelle-du-qag/
CATEGORIES:RM Réunion Mensuelle
END:VEVENT
BEGIN:VEVENT
DTSTART;TZID=Europe/Brussels:20250107T200000
DTEND;TZID=Europe/Brussels:20250107T220000
DTSTAMP:20260425T185315
CREATED:20240722T103616Z
LAST-MODIFIED:20240722T103617Z
UID:12781-1736280000-1736287200@gaq.be
SUMMARY:Réunion mensuelle du GAQ
DESCRIPTION:Orateur à confirmer \n\n\n\nMaison de Quartier\, square Ambiorix 4
URL:https://gaq.be/nl/evenements/reunion-mensuelle-du-gaq-3/
END:VEVENT
BEGIN:VEVENT
DTSTART;TZID=Europe/Brussels:20241203T200000
DTEND;TZID=Europe/Brussels:20241203T220000
DTSTAMP:20260425T185315
CREATED:20240722T103438Z
LAST-MODIFIED:20241119T152817Z
UID:12779-1733256000-1733263200@gaq.be
SUMMARY:Réunion mensuelle GAQ
DESCRIPTION:L’Inspecteur principal Olivier Somville est invité à la réunion mensuelle. Nous lui soumettrons les préoccupations actuelles des riverains. Plusieurs habitants nous ont interpellés ces derniers temps sur des points qui concernent la police.
URL:https://gaq.be/nl/evenements/reunion-mensuelle-gaq/
CATEGORIES:RM Réunion Mensuelle
END:VEVENT
BEGIN:VEVENT
DTSTART;TZID=Europe/Brussels:20241105T200000
DTEND;TZID=Europe/Brussels:20241105T220000
DTSTAMP:20260425T185315
CREATED:20240722T103202Z
LAST-MODIFIED:20240722T104832Z
UID:12777-1730836800-1730844000@gaq.be
SUMMARY:réunion mensuelle du GAQ
DESCRIPTION:Nous inviterons (sous réserve) Monsieur de Borman pour nous parler des installation en façade des cablodistributeurs. \n\n\n\nMaison de Quartier\, square Ambiorix 4
URL:https://gaq.be/nl/evenements/reunion-mensuelle-du-gaq-2/
END:VEVENT
BEGIN:VEVENT
DTSTART;TZID=Europe/Brussels:20241005T130000
DTEND;TZID=Europe/Brussels:20241005T170000
DTSTAMP:20260425T185315
CREATED:20240920T145439Z
LAST-MODIFIED:20240920T145440Z
UID:13053-1728133200-1728147600@gaq.be
SUMMARY:Thé dansant
DESCRIPTION:L’ACCJM (Association des Commerçants du Carrefour Jean Monnet) organisera le 5 octobre prochain au square Ambiorix un thé dansant organisé à destination des Goldies du quartier européen (les 65+) à l’occasion de la Journée internationale des Seniors du 1er octobre.
URL:https://gaq.be/nl/evenements/the-dansant/
END:VEVENT
BEGIN:VEVENT
DTSTART;TZID=Europe/Brussels:20241001T200000
DTEND;TZID=Europe/Brussels:20241001T220000
DTSTAMP:20260425T185315
CREATED:20240722T102740Z
LAST-MODIFIED:20240722T104756Z
UID:12775-1727812800-1727820000@gaq.be
SUMMARY:réunion mensuelle du GAQ
DESCRIPTION:En vue des élections communales (et provinciales) du 13 octobre\, nous organisons un débat entre les représentants des partis \n\n\n\nMaison de Quartier\, square Ambiorix 4
URL:https://gaq.be/nl/evenements/reunion-mensuelle-du-gaq/
END:VEVENT
BEGIN:VEVENT
DTSTART;TZID=Europe/Brussels:20240921T113000
DTEND;TZID=Europe/Brussels:20240921T133000
DTSTAMP:20260425T185315
CREATED:20240920T145137Z
LAST-MODIFIED:20240920T145138Z
UID:13051-1726918200-1726925400@gaq.be
SUMMARY:Fête d'automne
DESCRIPTION:Le collectif de voisins “Autour de Marguerite” vous invite à sa traditionnelle fête d’automne ce samedi 21 septembre de 11:30 à 13:30. Dans l’esprit d’une auberge espagnole\, merci d’amener une boisson et/ou un petit truc à partager (un gobelet ‘Autour de Marguerite’ sera mis à votre disposition). Bienvenue à tous\, petits et grands!
URL:https://gaq.be/nl/evenements/fete-dautomne/
END:VEVENT
END:VCALENDAR