BEGIN:VCALENDAR
VERSION:2.0
PRODID:-//GAQ: Comité du Quartier Européen de la Ville de Bruxelles - ECPv6.15.20//NONSGML v1.0//EN
CALSCALE:GREGORIAN
METHOD:PUBLISH
X-WR-CALNAME:GAQ: Comité du Quartier Européen de la Ville de Bruxelles
X-ORIGINAL-URL:https://gaq.be/nl/
X-WR-CALDESC:Evenementen voor GAQ: Comité du Quartier Européen de la Ville de Bruxelles
REFRESH-INTERVAL;VALUE=DURATION:PT1H
X-Robots-Tag:noindex
X-PUBLISHED-TTL:PT1H
BEGIN:VTIMEZONE
TZID:Europe/Brussels
BEGIN:DAYLIGHT
TZOFFSETFROM:+0100
TZOFFSETTO:+0200
TZNAME:CEST
DTSTART:20220327T010000
END:DAYLIGHT
BEGIN:STANDARD
TZOFFSETFROM:+0200
TZOFFSETTO:+0100
TZNAME:CET
DTSTART:20221030T010000
END:STANDARD
BEGIN:DAYLIGHT
TZOFFSETFROM:+0100
TZOFFSETTO:+0200
TZNAME:CEST
DTSTART:20230326T010000
END:DAYLIGHT
BEGIN:STANDARD
TZOFFSETFROM:+0200
TZOFFSETTO:+0100
TZNAME:CET
DTSTART:20231029T010000
END:STANDARD
BEGIN:DAYLIGHT
TZOFFSETFROM:+0100
TZOFFSETTO:+0200
TZNAME:CEST
DTSTART:20240331T010000
END:DAYLIGHT
BEGIN:STANDARD
TZOFFSETFROM:+0200
TZOFFSETTO:+0100
TZNAME:CET
DTSTART:20241027T010000
END:STANDARD
BEGIN:DAYLIGHT
TZOFFSETFROM:+0100
TZOFFSETTO:+0200
TZNAME:CEST
DTSTART:20250330T010000
END:DAYLIGHT
BEGIN:STANDARD
TZOFFSETFROM:+0200
TZOFFSETTO:+0100
TZNAME:CET
DTSTART:20251026T010000
END:STANDARD
END:VTIMEZONE
BEGIN:VEVENT
DTSTART;TZID=Europe/Brussels:20240626T170000
DTEND;TZID=Europe/Brussels:20240626T190000
DTSTAMP:20260426T045529
CREATED:20240612T164442Z
LAST-MODIFIED:20240612T164936Z
UID:12422-1719421200-1719428400@gaq.be
SUMMARY:Zomerfeest
DESCRIPTION:De GAQ nodigt je uit om het begin van de zomer en de vakantie te vieren. \n\n\n\nVolgende bijeenkomst in september. \n\n\n\nPrettige vakantie.
URL:https://gaq.be/nl/evenements/zomerfeest/
ATTACH;FMTTYPE=image/jpeg:https://gaq.be/wp-content/uploads/2024/06/water-427893.jpg
END:VEVENT
BEGIN:VEVENT
DTSTART;TZID=Europe/Brussels:20240611T200000
DTEND;TZID=Europe/Brussels:20240611T220000
DTSTAMP:20260426T045529
CREATED:20240321T162612Z
LAST-MODIFIED:20240321T162837Z
UID:12055-1718136000-1718143200@gaq.be
SUMMARY:Algemene vergadering
DESCRIPTION:Statutaire algemene vergadering \n\n\n\nBuurthuis Ambiorix
URL:https://gaq.be/nl/evenements/algemene-vergadering/
ATTACH;FMTTYPE=image/png:https://gaq.be/wp-content/uploads/2024/03/GAQ_AGENDA_PLACEHOLDER.png
END:VEVENT
BEGIN:VEVENT
DTSTART;TZID=Europe/Brussels:20240513T200000
DTEND;TZID=Europe/Brussels:20240513T220000
DTSTAMP:20260426T045529
CREATED:20240321T161437Z
LAST-MODIFIED:20240419T141838Z
UID:12044-1715630400-1715637600@gaq.be
SUMMARY:Maandelijkse vergadering
DESCRIPTION:Let op: verandering van datum: 13 mei 2024 om 20 uur in plaats van 14 mei. \n\n\n\nGast: Alain Deneef. Hij zal het hebben over het 50/200 Jubelpark project. \n\n\n\n \n\n\n\nBuurthuis Ambiorix
URL:https://gaq.be/nl/evenements/maandelijkse-vergadering-5/
ATTACH;FMTTYPE=image/png:https://gaq.be/wp-content/uploads/2024/03/GAQ_AGENDA_PLACEHOLDER.png
END:VEVENT
BEGIN:VEVENT
DTSTART;TZID=Europe/Brussels:20240402T200000
DTEND;TZID=Europe/Brussels:20240402T220000
DTSTAMP:20260426T045529
CREATED:20240321T160614Z
LAST-MODIFIED:20240321T160748Z
UID:12038-1712088000-1712095200@gaq.be
SUMMARY:Maandelijkse vergadering
DESCRIPTION:Buurthuis Ambiorix
URL:https://gaq.be/nl/evenements/maandelijkse-vergadering-3/
ATTACH;FMTTYPE=image/png:https://gaq.be/wp-content/uploads/2024/03/GAQ_AGENDA_PLACEHOLDER.png
END:VEVENT
BEGIN:VEVENT
DTSTART;TZID=Europe/Brussels:20240402T200000
DTEND;TZID=Europe/Brussels:20240402T220000
DTSTAMP:20260426T045529
CREATED:20240321T154341Z
LAST-MODIFIED:20240321T154341Z
UID:12024-1712088000-1712095200@gaq.be
SUMMARY:Réunion mensuelle
DESCRIPTION:Maison de Quartier Ambiorix
URL:https://gaq.be/nl/evenements/reunion-mensuelle-12/
ATTACH;FMTTYPE=image/png:https://gaq.be/wp-content/uploads/2024/03/GAQ_AGENDA_PLACEHOLDER.png
END:VEVENT
BEGIN:VEVENT
DTSTART;TZID=Europe/Brussels:20240312T200000
DTEND;TZID=Europe/Brussels:20240312T220000
DTSTAMP:20260426T045529
CREATED:20231221T155209Z
LAST-MODIFIED:20240310T164534Z
UID:11280-1710273600-1710280800@gaq.be
SUMMARY:Maandelijkse vergadering
DESCRIPTION:Buurthuis Ambiorix  \n\n\n\n \n\n\n\nOnze gast is Alain Dewez\, die het JEU DE L’OIE DU QUARTIER zal voorstellen. \n\n\n\nWe zullen het ook hebben over het dossier Van Campenhout\, de Schuman rondpunt en het werk van ons team.
URL:https://gaq.be/nl/evenements/maandelijkse-vergadering-4/
ATTACH;FMTTYPE=image/png:https://gaq.be/wp-content/uploads/2024/03/GAQ_AGENDA_PLACEHOLDER.png
END:VEVENT
BEGIN:VEVENT
DTSTART;TZID=Europe/Brussels:20240312T200000
DTEND;TZID=Europe/Brussels:20240312T220000
DTSTAMP:20260426T045529
CREATED:20231205T203800Z
LAST-MODIFIED:20240319T143914Z
UID:11206-1710273600-1710280800@gaq.be
SUMMARY:Réunion mensuelle
DESCRIPTION:Notre invité sera Alain Dewez qui présentera le JEU DE L’OIE DU QUARTIER. \n\n\n\nOn parlera aussi du dossier Van Campenhout\, du Rond-point Schuman et du travail de notre équipe.
URL:https://gaq.be/nl/evenements/reunion-mensuelle-11/
LOCATION:Maison de Quartier Ambiorix
ATTACH;FMTTYPE=image/png:https://gaq.be/wp-content/uploads/2024/03/GAQ_AGENDA_PLACEHOLDER.png
END:VEVENT
BEGIN:VEVENT
DTSTART;TZID=Europe/Brussels:20240206T200000
DTEND;TZID=Europe/Brussels:20240206T220000
DTSTAMP:20260426T045529
CREATED:20231204T174144Z
LAST-MODIFIED:20240321T154559Z
UID:11276-1707249600-1707256800@gaq.be
SUMMARY:Maandelijkse vergadering
DESCRIPTION:Gastspreker: Guillaume AMAND\, medewerker bij HOMEGRADE
URL:https://gaq.be/nl/evenements/maandelijkse-vergadering-2/
LOCATION:Maison de Quartier Ambiorix
ATTACH;FMTTYPE=image/png:https://gaq.be/wp-content/uploads/2024/03/GAQ_AGENDA_PLACEHOLDER.png
END:VEVENT
BEGIN:VEVENT
DTSTART;TZID=Europe/Brussels:20240109T200000
DTEND;TZID=Europe/Brussels:20240109T220000
DTSTAMP:20260426T045529
CREATED:20231221T161107Z
LAST-MODIFIED:20231221T161109Z
UID:11302-1704830400-1704837600@gaq.be
SUMMARY:Maandelijkse vergadering
DESCRIPTION:Gastspreker: Sophie WITTEMANS
URL:https://gaq.be/nl/evenements/maandelijkse-vergadering/
END:VEVENT
BEGIN:VEVENT
DTSTART;TZID=Europe/Brussels:20240109T200000
DTEND;TZID=Europe/Brussels:20240109T220000
DTSTAMP:20260426T045529
CREATED:20231204T174011Z
LAST-MODIFIED:20240319T143745Z
UID:11195-1704830400-1704837600@gaq.be
SUMMARY:Réunion mensuelle
DESCRIPTION:Invitée Sophie WITTEMANS
URL:https://gaq.be/nl/evenements/reunion-mensuelle-8/
LOCATION:Maison de Quartier Ambiorix
ATTACH;FMTTYPE=image/png:https://gaq.be/wp-content/uploads/2024/03/GAQ_AGENDA_PLACEHOLDER.png
END:VEVENT
BEGIN:VEVENT
DTSTART;TZID=Europe/Brussels:20231210T140000
DTEND;TZID=Europe/Brussels:20231210T190000
DTSTAMP:20260426T045529
CREATED:20231205T204917Z
LAST-MODIFIED:20231205T205309Z
UID:11218-1702216800-1702234800@gaq.be
SUMMARY:Winter Pop
DESCRIPTION:Le temps d’un weekend\, le square Ambiorix accueillera le Winter Pop\, un village itinérant intimiste et chaleureux dans lesquels on retrouvera l’atmosphère enjouée des Plaisirs d’Hiver.
URL:https://gaq.be/nl/evenements/winter-pop-5/
LOCATION:Square Ambiorix\, Square Ambiorix\, Brussels\, Belgium
END:VEVENT
BEGIN:VEVENT
DTSTART;TZID=Europe/Brussels:20231209T150000
DTEND;TZID=Europe/Brussels:20231209T210000
DTSTAMP:20260426T045529
CREATED:20231205T204728Z
LAST-MODIFIED:20231205T205238Z
UID:11216-1702134000-1702155600@gaq.be
SUMMARY:Winter Pop
DESCRIPTION:Le temps d’un weekend\, le square Ambiorix accueillera le Winter Pop\, un village itinérant intimiste et chaleureux dans lesquels on retrouvera l’atmosphère enjouée des Plaisirs d’Hiver.
URL:https://gaq.be/nl/evenements/winter-pop-4/
LOCATION:Square Ambiorix\, Square Ambiorix\, Brussels\, Belgium
END:VEVENT
BEGIN:VEVENT
DTSTART;TZID=Europe/Brussels:20231208T150000
DTEND;TZID=Europe/Brussels:20231208T210000
DTSTAMP:20260426T045529
CREATED:20231205T204552Z
LAST-MODIFIED:20231205T205207Z
UID:11214-1702047600-1702069200@gaq.be
SUMMARY:Winter Pop
DESCRIPTION:Le temps d’un weekend\, le square Ambiorix accueillera le Winter Pop\, un village itinérant intimiste et chaleureux dans lesquels on retrouvera l’atmosphère enjouée des Plaisirs d’Hiver.
URL:https://gaq.be/nl/evenements/winter-pop-3/
LOCATION:Square Ambiorix\, Square Ambiorix\, Brussels\, Belgium
END:VEVENT
BEGIN:VEVENT
DTSTART;TZID=Europe/Brussels:20231205T200000
DTEND;TZID=Europe/Brussels:20231205T220000
DTSTAMP:20260426T045529
CREATED:20231201T193906Z
LAST-MODIFIED:20240319T145715Z
UID:11129-1701806400-1701813600@gaq.be
SUMMARY:Réunion mensuelle
DESCRIPTION:
URL:https://gaq.be/nl/evenements/reunion-mensuelle-7/
LOCATION:Maison de Quartier Ambiorix
ATTACH;FMTTYPE=image/png:https://gaq.be/wp-content/uploads/2024/03/GAQ_AGENDA_PLACEHOLDER.png
END:VEVENT
BEGIN:VEVENT
DTSTART;TZID=Europe/Brussels:20231203T130000
DTEND;TZID=Europe/Brussels:20231203T170000
DTSTAMP:20260426T045529
CREATED:20231203T084615Z
LAST-MODIFIED:20231203T084719Z
UID:11167-1701608400-1701622800@gaq.be
SUMMARY:Marche pour le climat
DESCRIPTION:
URL:https://gaq.be/nl/evenements/marche-pour-le-climat/
END:VEVENT
BEGIN:VEVENT
DTSTART;TZID=Europe/Brussels:20231203T130000
DTEND;TZID=Europe/Brussels:20231203T170000
DTSTAMP:20260426T045529
CREATED:20231124T105704Z
LAST-MODIFIED:20231203T084832Z
UID:11082-1701608400-1701622800@gaq.be
SUMMARY:Stap mee voor onze planeet
DESCRIPTION:
URL:https://gaq.be/nl/evenements/marchons-pour-notre-planete-stap-mee-voor-onze-planeet/
END:VEVENT
BEGIN:VEVENT
DTSTART;TZID=Europe/Brussels:20231019T183000
DTEND;TZID=Europe/Brussels:20231019T203000
DTSTAMP:20260426T045529
CREATED:20220718T164107Z
LAST-MODIFIED:20230921T070258Z
UID:7051-1697740200-1697747400@gaq.be
SUMMARY:réunion du conseil consultatif des affaires économiques
DESCRIPTION:
URL:https://gaq.be/nl/evenements/reunion-du-conseil-consultatif-des-affaires-economiques-3/
END:VEVENT
BEGIN:VEVENT
DTSTART;TZID=Europe/Brussels:20230628T183000
DTEND;TZID=Europe/Brussels:20230628T203000
DTSTAMP:20260426T045529
CREATED:20220718T164000Z
LAST-MODIFIED:20220718T164000Z
UID:7049-1687977000-1687984200@gaq.be
SUMMARY:réunion du conseil consultatif des affaires économiques
DESCRIPTION:  \n 
URL:https://gaq.be/nl/evenements/reunion-du-conseil-consultatif-des-affaires-economiques-2/
END:VEVENT
BEGIN:VEVENT
DTSTART;TZID=Europe/Brussels:20230606T200000
DTEND;TZID=Europe/Brussels:20230606T220000
DTSTAMP:20260426T045529
CREATED:20220812T152420Z
LAST-MODIFIED:20230225T165059Z
UID:7128-1686081600-1686088800@gaq.be
SUMMARY:AG et drink de fin d'année
DESCRIPTION:AG et drink de fin d’année \n 
URL:https://gaq.be/nl/evenements/fete-et-drink-de-fin-dannee/
LOCATION:à déterminer
CATEGORIES:Fête
END:VEVENT
BEGIN:VEVENT
DTSTART;TZID=Europe/Brussels:20230530T200000
DTEND;TZID=Europe/Brussels:20230530T220000
DTSTAMP:20260426T045529
CREATED:20220812T151137Z
LAST-MODIFIED:20220812T151137Z
UID:7106-1685476800-1685484000@gaq.be
SUMMARY:OA
DESCRIPTION:Réunion de l’Organe d’Administration \n 
URL:https://gaq.be/nl/evenements/oa-10/
LOCATION:Maison de Quartier Ambiorix
CATEGORIES:CA Conseil de l'organe d'administration
END:VEVENT
BEGIN:VEVENT
DTSTART;TZID=Europe/Brussels:20230425T200000
DTEND;TZID=Europe/Brussels:20230425T220000
DTSTAMP:20260426T045529
CREATED:20220812T152210Z
LAST-MODIFIED:20230225T164940Z
UID:7124-1682452800-1682460000@gaq.be
SUMMARY:RM
DESCRIPTION:Réunion mensuelle publique \n 
URL:https://gaq.be/nl/evenements/rm-7/
LOCATION:Maison de Quartier Ambiorix
CATEGORIES:RM Réunion Mensuelle
END:VEVENT
BEGIN:VEVENT
DTSTART;TZID=Europe/Brussels:20230418T200000
DTEND;TZID=Europe/Brussels:20230418T220000
DTSTAMP:20260426T045529
CREATED:20220812T151031Z
LAST-MODIFIED:20220812T151031Z
UID:7104-1681848000-1681855200@gaq.be
SUMMARY:OA
DESCRIPTION:Réunion de l’Organe d’Administration \n 
URL:https://gaq.be/nl/evenements/oa-9/
LOCATION:Maison de Quartier Ambiorix
CATEGORIES:CA Conseil de l'organe d'administration
END:VEVENT
BEGIN:VEVENT
DTSTART;TZID=Europe/Brussels:20230404T200000
DTEND;TZID=Europe/Brussels:20230404T220000
DTSTAMP:20260426T045529
CREATED:20220812T153425Z
LAST-MODIFIED:20220812T153425Z
UID:7132-1680638400-1680645600@gaq.be
SUMMARY:RM
DESCRIPTION:Réunion mensuelle publique \n 
URL:https://gaq.be/nl/evenements/rm-6/
LOCATION:Maison de Quartier Ambiorix
END:VEVENT
BEGIN:VEVENT
DTSTART;TZID=Europe/Brussels:20230328T200000
DTEND;TZID=Europe/Brussels:20230328T220000
DTSTAMP:20260426T045529
CREATED:20220812T150927Z
LAST-MODIFIED:20230321T145823Z
UID:7102-1680033600-1680040800@gaq.be
SUMMARY:OA
DESCRIPTION:Réunion de l’Organe d’Administration \n 
URL:https://gaq.be/nl/evenements/oa-8/
LOCATION:Maison de Quartier Ambiorix
CATEGORIES:CA Conseil de l'organe d'administration
END:VEVENT
BEGIN:VEVENT
DTSTART;TZID=Europe/Brussels:20230328T183000
DTEND;TZID=Europe/Brussels:20230328T203000
DTSTAMP:20260426T045529
CREATED:20220718T163853Z
LAST-MODIFIED:20220907T153000Z
UID:7047-1680028200-1680035400@gaq.be
SUMMARY:réunion du conseil consultatif des affaires économiques
DESCRIPTION:  \n 
URL:https://gaq.be/nl/evenements/reunion-du-conseil-consultatif-des-affaires-economiques/
END:VEVENT
BEGIN:VEVENT
DTSTART;TZID=Europe/Brussels:20230325T080000
DTEND;TZID=Europe/Brussels:20230325T170000
DTSTAMP:20260426T045529
CREATED:20230308T142104Z
LAST-MODIFIED:20230308T142147Z
UID:7564-1679731200-1679763600@gaq.be
SUMMARY:Grande Collecte des Encombrants
DESCRIPTION:Rue des Confédérés (hauteur n° 70)\nProxy Chimik jusqu’à 13h
URL:https://gaq.be/nl/evenements/grande-collecte-des-encombrants-23/
LOCATION:Rue des Confédérés
CATEGORIES:Evènement propreté
END:VEVENT
BEGIN:VEVENT
DTSTART;TZID=Europe/Brussels:20230323T080000
DTEND;TZID=Europe/Brussels:20230323T180000
DTSTAMP:20260426T045529
CREATED:20230308T135213Z
LAST-MODIFIED:20230317T072821Z
UID:7561-1679558400-1679594400@gaq.be
SUMMARY:Grande Collecte des Encombrants
DESCRIPTION:Rue des Confédérés (hauteur n° 70) avec Proxy Chimik;\nRue Joseph II (entre Livingstone et Taciturne) sans Proxy Chimik
URL:https://gaq.be/nl/evenements/grande-collecte-des-encombrants-22/
LOCATION:Rue des Confédérés et Rue Joseph II
CATEGORIES:Evènement propreté
END:VEVENT
BEGIN:VEVENT
DTSTART;TZID=Europe/Brussels:20230307T200000
DTEND;TZID=Europe/Brussels:20230307T220000
DTSTAMP:20260426T045529
CREATED:20220812T152003Z
LAST-MODIFIED:20230225T165251Z
UID:7120-1678219200-1678226400@gaq.be
SUMMARY:RM
DESCRIPTION:Réunion mensuelle publique \n 
URL:https://gaq.be/nl/evenements/rm-et-ag-statutaire/
LOCATION:Maison de Quartier Ambiorix
CATEGORIES:Assemblée Générale,RM Réunion Mensuelle
END:VEVENT
BEGIN:VEVENT
DTSTART;TZID=Europe/Brussels:20230214T200000
DTEND;TZID=Europe/Brussels:20230214T220000
DTSTAMP:20260426T045529
CREATED:20220812T150835Z
LAST-MODIFIED:20230122T170447Z
UID:7100-1676404800-1676412000@gaq.be
SUMMARY:OA
DESCRIPTION:Réunion de l’Organe d’Administration \n 
URL:https://gaq.be/nl/evenements/oa-7/
LOCATION:Maison de Quartier Ambiorix
CATEGORIES:CA Conseil de l'organe d'administration
END:VEVENT
BEGIN:VEVENT
DTSTART;TZID=Europe/Brussels:20230207T200000
DTEND;TZID=Europe/Brussels:20230207T220000
DTSTAMP:20260426T045529
CREATED:20220812T151828Z
LAST-MODIFIED:20220812T151828Z
UID:7118-1675800000-1675807200@gaq.be
SUMMARY:RM
DESCRIPTION:Réunion mensuelle publique \n 
URL:https://gaq.be/nl/evenements/rm-5/
LOCATION:Maison de Quartier Ambiorix
CATEGORIES:RM Réunion Mensuelle
END:VEVENT
END:VCALENDAR