BEGIN:VCALENDAR
VERSION:2.0
PRODID:-//GAQ: Comité du Quartier Européen de la Ville de Bruxelles - ECPv6.15.20//NONSGML v1.0//EN
CALSCALE:GREGORIAN
METHOD:PUBLISH
X-WR-CALNAME:GAQ: Comité du Quartier Européen de la Ville de Bruxelles
X-ORIGINAL-URL:https://gaq.be/nl/
X-WR-CALDESC:Evenementen voor GAQ: Comité du Quartier Européen de la Ville de Bruxelles
REFRESH-INTERVAL;VALUE=DURATION:PT1H
X-Robots-Tag:noindex
X-PUBLISHED-TTL:PT1H
BEGIN:VTIMEZONE
TZID:Europe/Brussels
BEGIN:DAYLIGHT
TZOFFSETFROM:+0100
TZOFFSETTO:+0200
TZNAME:CEST
DTSTART:20210328T010000
END:DAYLIGHT
BEGIN:STANDARD
TZOFFSETFROM:+0200
TZOFFSETTO:+0100
TZNAME:CET
DTSTART:20211031T010000
END:STANDARD
BEGIN:DAYLIGHT
TZOFFSETFROM:+0100
TZOFFSETTO:+0200
TZNAME:CEST
DTSTART:20220327T010000
END:DAYLIGHT
BEGIN:STANDARD
TZOFFSETFROM:+0200
TZOFFSETTO:+0100
TZNAME:CET
DTSTART:20221030T010000
END:STANDARD
BEGIN:DAYLIGHT
TZOFFSETFROM:+0100
TZOFFSETTO:+0200
TZNAME:CEST
DTSTART:20230326T010000
END:DAYLIGHT
BEGIN:STANDARD
TZOFFSETFROM:+0200
TZOFFSETTO:+0100
TZNAME:CET
DTSTART:20231029T010000
END:STANDARD
BEGIN:DAYLIGHT
TZOFFSETFROM:+0100
TZOFFSETTO:+0200
TZNAME:CEST
DTSTART:20240331T010000
END:DAYLIGHT
BEGIN:STANDARD
TZOFFSETFROM:+0200
TZOFFSETTO:+0100
TZNAME:CET
DTSTART:20241027T010000
END:STANDARD
END:VTIMEZONE
BEGIN:VEVENT
DTSTART;TZID=Europe/Brussels:20230325T080000
DTEND;TZID=Europe/Brussels:20230325T170000
DTSTAMP:20260426T034632
CREATED:20230308T142104Z
LAST-MODIFIED:20230308T142147Z
UID:7564-1679731200-1679763600@gaq.be
SUMMARY:Grande Collecte des Encombrants
DESCRIPTION:Rue des Confédérés (hauteur n° 70)\nProxy Chimik jusqu’à 13h
URL:https://gaq.be/nl/evenements/grande-collecte-des-encombrants-23/
LOCATION:Rue des Confédérés
CATEGORIES:Evènement propreté
END:VEVENT
BEGIN:VEVENT
DTSTART;TZID=Europe/Brussels:20230323T080000
DTEND;TZID=Europe/Brussels:20230323T180000
DTSTAMP:20260426T034632
CREATED:20230308T135213Z
LAST-MODIFIED:20230317T072821Z
UID:7561-1679558400-1679594400@gaq.be
SUMMARY:Grande Collecte des Encombrants
DESCRIPTION:Rue des Confédérés (hauteur n° 70) avec Proxy Chimik;\nRue Joseph II (entre Livingstone et Taciturne) sans Proxy Chimik
URL:https://gaq.be/nl/evenements/grande-collecte-des-encombrants-22/
LOCATION:Rue des Confédérés et Rue Joseph II
CATEGORIES:Evènement propreté
END:VEVENT
BEGIN:VEVENT
DTSTART;TZID=Europe/Brussels:20230307T200000
DTEND;TZID=Europe/Brussels:20230307T220000
DTSTAMP:20260426T034632
CREATED:20220812T152003Z
LAST-MODIFIED:20230225T165251Z
UID:7120-1678219200-1678226400@gaq.be
SUMMARY:RM
DESCRIPTION:Réunion mensuelle publique \n 
URL:https://gaq.be/nl/evenements/rm-et-ag-statutaire/
LOCATION:Maison de Quartier Ambiorix
CATEGORIES:Assemblée Générale,RM Réunion Mensuelle
END:VEVENT
BEGIN:VEVENT
DTSTART;TZID=Europe/Brussels:20230214T200000
DTEND;TZID=Europe/Brussels:20230214T220000
DTSTAMP:20260426T034632
CREATED:20220812T150835Z
LAST-MODIFIED:20230122T170447Z
UID:7100-1676404800-1676412000@gaq.be
SUMMARY:OA
DESCRIPTION:Réunion de l’Organe d’Administration \n 
URL:https://gaq.be/nl/evenements/oa-7/
LOCATION:Maison de Quartier Ambiorix
CATEGORIES:CA Conseil de l'organe d'administration
END:VEVENT
BEGIN:VEVENT
DTSTART;TZID=Europe/Brussels:20230207T200000
DTEND;TZID=Europe/Brussels:20230207T220000
DTSTAMP:20260426T034632
CREATED:20220812T151828Z
LAST-MODIFIED:20220812T151828Z
UID:7118-1675800000-1675807200@gaq.be
SUMMARY:RM
DESCRIPTION:Réunion mensuelle publique \n 
URL:https://gaq.be/nl/evenements/rm-5/
LOCATION:Maison de Quartier Ambiorix
CATEGORIES:RM Réunion Mensuelle
END:VEVENT
BEGIN:VEVENT
DTSTART;TZID=Europe/Brussels:20230131T200000
DTEND;TZID=Europe/Brussels:20230131T220000
DTSTAMP:20260426T034632
CREATED:20220812T150747Z
LAST-MODIFIED:20220812T150747Z
UID:7098-1675195200-1675202400@gaq.be
SUMMARY:OA
DESCRIPTION:Réunion de l’Organe d’Administration \n 
URL:https://gaq.be/nl/evenements/oa-6/
LOCATION:Maison de Quartier Ambiorix
CATEGORIES:CA Conseil de l'organe d'administration
END:VEVENT
BEGIN:VEVENT
DTSTART;TZID=Europe/Brussels:20230110T200000
DTEND;TZID=Europe/Brussels:20230110T220000
DTSTAMP:20260426T034632
CREATED:20220812T151733Z
LAST-MODIFIED:20220812T151733Z
UID:7116-1673380800-1673388000@gaq.be
SUMMARY:RM
DESCRIPTION:Réunion mensuelle publique \n 
URL:https://gaq.be/nl/evenements/rm-4/
LOCATION:Maison de Quartier Ambiorix
CATEGORIES:RM Réunion Mensuelle
END:VEVENT
BEGIN:VEVENT
DTSTART;TZID=Europe/Brussels:20221220T200000
DTEND;TZID=Europe/Brussels:20221220T220000
DTSTAMP:20260426T034632
CREATED:20220812T150638Z
LAST-MODIFIED:20220812T150638Z
UID:7096-1671566400-1671573600@gaq.be
SUMMARY:OA
DESCRIPTION:Réunion de l’Organe d’Administration \n 
URL:https://gaq.be/nl/evenements/oa-5/
LOCATION:Maison de Quartier Ambiorix
CATEGORIES:CA Conseil de l'organe d'administration
END:VEVENT
BEGIN:VEVENT
DTSTART;TZID=Europe/Brussels:20221209T100000
DTEND;TZID=Europe/Brussels:20221211T170000
DTSTAMP:20260426T034632
CREATED:20221013T074303Z
LAST-MODIFIED:20221013T074303Z
UID:7334-1670580000-1670778000@gaq.be
SUMMARY:WinterPop
DESCRIPTION:L’hiver approche et nous sommes ravis de vous annoncer que dans le cadre des Plaisirs d’Hiver\, les roulottes de Winter Pop reviennent dans notre quartier ! \nCette année\, le village d’hiver se déploiera dans trois quartiers de la Ville de Bruxelles et une foule d’animations ludiques et créatives pour petits et grands y seront organisées : ateliers\, spectacles\, initiations\, concerts\, fanfares\, danses\, dessins animés\, contes\, déambulations festives… \nL’horaire n’est pas encore décidé.
URL:https://gaq.be/nl/evenements/winterpop-7/
LOCATION:Square Ambiorix\, Square Ambiorix\, Brussels\, Belgium
END:VEVENT
BEGIN:VEVENT
DTSTART;TZID=Europe/Brussels:20221206T200000
DTEND;TZID=Europe/Brussels:20221206T220000
DTSTAMP:20260426T034632
CREATED:20220812T151626Z
LAST-MODIFIED:20220812T151626Z
UID:7114-1670356800-1670364000@gaq.be
SUMMARY:RM
DESCRIPTION:Réunion mensuelle publique \n 
URL:https://gaq.be/nl/evenements/rm-3/
LOCATION:Maison de Quartier Ambiorix
CATEGORIES:RM Réunion Mensuelle
END:VEVENT
BEGIN:VEVENT
DTSTART;TZID=Europe/Brussels:20221129T200000
DTEND;TZID=Europe/Brussels:20221129T220000
DTSTAMP:20260426T034632
CREATED:20220812T150510Z
LAST-MODIFIED:20220812T150510Z
UID:7093-1669752000-1669759200@gaq.be
SUMMARY:OA
DESCRIPTION:Réunion de l’Organe d’Administration \n 
URL:https://gaq.be/nl/evenements/oa-4/
LOCATION:Maison de Quartier Ambiorix
CATEGORIES:CA Conseil de l'organe d'administration
END:VEVENT
BEGIN:VEVENT
DTSTART;TZID=Europe/Brussels:20221108T200000
DTEND;TZID=Europe/Brussels:20221108T220000
DTSTAMP:20260426T034632
CREATED:20220812T151515Z
LAST-MODIFIED:20220812T151515Z
UID:7112-1667937600-1667944800@gaq.be
SUMMARY:RM et AG pour les statuts
DESCRIPTION:Réunion mensuelle en partie publique \n 
URL:https://gaq.be/nl/evenements/rm-et-ag-pour-les-statuts/
LOCATION:Maison de Quartier Ambiorix
CATEGORIES:Assemblée Générale,RM Réunion Mensuelle
END:VEVENT
BEGIN:VEVENT
DTSTART;TZID=Europe/Brussels:20221025T200000
DTEND;TZID=Europe/Brussels:20221025T220000
DTSTAMP:20260426T034632
CREATED:20220812T150408Z
LAST-MODIFIED:20220812T150408Z
UID:7091-1666728000-1666735200@gaq.be
SUMMARY:OA
DESCRIPTION:Réunion de l’Organe d’Administration \n 
URL:https://gaq.be/nl/evenements/oa-3/
LOCATION:Maison de Quartier Ambiorix
CATEGORIES:CA Conseil de l'organe d'administration
END:VEVENT
BEGIN:VEVENT
DTSTART;TZID=Europe/Brussels:20221004T200000
DTEND;TZID=Europe/Brussels:20221004T220000
DTSTAMP:20260426T034632
CREATED:20220812T151352Z
LAST-MODIFIED:20220812T151352Z
UID:7110-1664913600-1664920800@gaq.be
SUMMARY:RM
DESCRIPTION:Réunion mensuelle publique \n 
URL:https://gaq.be/nl/evenements/rm-2/
LOCATION:Maison de Quartier Ambiorix
CATEGORIES:RM Réunion Mensuelle
END:VEVENT
BEGIN:VEVENT
DTSTART;TZID=Europe/Brussels:20220927T200000
DTEND;TZID=Europe/Brussels:20220927T220000
DTSTAMP:20260426T034632
CREATED:20220812T150253Z
LAST-MODIFIED:20220812T150253Z
UID:7089-1664308800-1664316000@gaq.be
SUMMARY:OA
DESCRIPTION:Réunion de l’Organe d’Administration \n 
URL:https://gaq.be/nl/evenements/oa-2/
CATEGORIES:CA Conseil de l'organe d'administration
END:VEVENT
BEGIN:VEVENT
DTSTART;TZID=Europe/Brussels:20220906T200000
DTEND;TZID=Europe/Brussels:20220906T220000
DTSTAMP:20260426T034632
CREATED:20220812T151255Z
LAST-MODIFIED:20220812T151255Z
UID:7108-1662494400-1662501600@gaq.be
SUMMARY:RM
DESCRIPTION:Réunion mensuelle publique \n 
URL:https://gaq.be/nl/evenements/rm/
LOCATION:Maison de Quartier Ambiorix
CATEGORIES:RM Réunion Mensuelle
END:VEVENT
BEGIN:VEVENT
DTSTART;TZID=Europe/Brussels:20220830T200000
DTEND;TZID=Europe/Brussels:20220830T200000
DTSTAMP:20260426T034632
CREATED:20220812T150117Z
LAST-MODIFIED:20220812T150117Z
UID:7086-1661889600-1661889600@gaq.be
SUMMARY:OA
DESCRIPTION:Réunion OA \n 
URL:https://gaq.be/nl/evenements/oa/
LOCATION:Maison de Quartier Ambiorix
CATEGORIES:CA Conseil de l'organe d'administration
END:VEVENT
BEGIN:VEVENT
DTSTART;VALUE=DATE:20220630
DTEND;VALUE=DATE:20220701
DTSTAMP:20260426T034632
CREATED:20211018T164730Z
LAST-MODIFIED:20211018T164730Z
UID:6671-1656547200-1656633599@gaq.be
SUMMARY:FETE du GAQ
DESCRIPTION:  \n 
URL:https://gaq.be/nl/evenements/fete-du-gaq/
LOCATION:à déterminer
CATEGORIES:Fête
END:VEVENT
BEGIN:VEVENT
DTSTART;TZID=Europe/Brussels:20220628T200000
DTEND;TZID=Europe/Brussels:20220628T220000
DTSTAMP:20260426T034632
CREATED:20211018T164618Z
LAST-MODIFIED:20211128T170943Z
UID:6669-1656446400-1656453600@gaq.be
SUMMARY:Réunion de l'organe d'administration
DESCRIPTION:  \n 
URL:https://gaq.be/nl/evenements/reunion-de-lorgane-dadministration-8/
LOCATION:à déterminer
CATEGORIES:CA Conseil de l'organe d'administration
END:VEVENT
BEGIN:VEVENT
DTSTART;TZID=Europe/Brussels:20220607T200000
DTEND;TZID=Europe/Brussels:20220607T220000
DTSTAMP:20260426T034632
CREATED:20211018T164532Z
LAST-MODIFIED:20220226T164945Z
UID:6667-1654632000-1654639200@gaq.be
SUMMARY:AG Assemblée Générale
DESCRIPTION:  \n 
URL:https://gaq.be/nl/evenements/rm-reunion-mensuelle-7/
LOCATION:à déterminer
CATEGORIES:Assemblée Générale
END:VEVENT
BEGIN:VEVENT
DTSTART;TZID=Europe/Brussels:20220606T200000
DTEND;TZID=Europe/Brussels:20220606T220000
DTSTAMP:20260426T034632
CREATED:20220812T152301Z
LAST-MODIFIED:20220812T152301Z
UID:7126-1654545600-1654552800@gaq.be
SUMMARY:RM
DESCRIPTION:Réunion mensuelle publique \n 
URL:https://gaq.be/nl/evenements/rm-8/
LOCATION:Maison de Quartier Ambiorix
CATEGORIES:RM Réunion Mensuelle
END:VEVENT
BEGIN:VEVENT
DTSTART;TZID=Europe/Brussels:20220531T200000
DTEND;TZID=Europe/Brussels:20220531T220000
DTSTAMP:20260426T034632
CREATED:20211018T164435Z
LAST-MODIFIED:20211018T164435Z
UID:6665-1654027200-1654034400@gaq.be
SUMMARY:Réunion de l'organe d'administration
DESCRIPTION:  \n 
URL:https://gaq.be/nl/evenements/reunion-de-lorgane-dadministration-7/
LOCATION:l’Estampille\, Rue de Pavie 75\, Bruxelles\, 1000\, Belgique
CATEGORIES:CA Conseil de l'organe d'administration
END:VEVENT
BEGIN:VEVENT
DTSTART;TZID=Europe/Brussels:20220514T110000
DTEND;TZID=Europe/Brussels:20220514T180000
DTSTAMP:20260426T034632
CREATED:20220206T145642Z
LAST-MODIFIED:20220206T145642Z
UID:6812-1652526000-1652551200@gaq.be
SUMMARY:Fête de rue: Rues jumelles
DESCRIPTION:
URL:https://gaq.be/nl/evenements/fete-de-rue-rues-jumelles/
LOCATION:Rue le Corrège
END:VEVENT
BEGIN:VEVENT
DTSTART;TZID=Europe/Brussels:20220503T200000
DTEND;TZID=Europe/Brussels:20220503T220000
DTSTAMP:20260426T034632
CREATED:20211018T164249Z
LAST-MODIFIED:20211018T164249Z
UID:6662-1651608000-1651615200@gaq.be
SUMMARY:RM réunion mensuelle
DESCRIPTION:  \n 
URL:https://gaq.be/nl/evenements/rm-reunion-mensuelle-6/
LOCATION:à déterminer
CATEGORIES:RM Réunion Mensuelle
END:VEVENT
BEGIN:VEVENT
DTSTART;TZID=Europe/Brussels:20220426T200000
DTEND;TZID=Europe/Brussels:20220426T220000
DTSTAMP:20260426T034632
CREATED:20211018T164135Z
LAST-MODIFIED:20211018T164335Z
UID:6660-1651003200-1651010400@gaq.be
SUMMARY:Réunion de l'organe d'administration
DESCRIPTION:  \n 
URL:https://gaq.be/nl/evenements/reunion-de-lorgane-dadministration-6/
LOCATION:l’Estampille\, Rue de Pavie 75\, Bruxelles\, 1000\, Belgique
CATEGORIES:CA Conseil de l'organe d'administration
END:VEVENT
BEGIN:VEVENT
DTSTART;TZID=Europe/Brussels:20220405T200000
DTEND;TZID=Europe/Brussels:20220405T220000
DTSTAMP:20260426T034632
CREATED:20211018T164041Z
LAST-MODIFIED:20211018T164041Z
UID:6658-1649188800-1649196000@gaq.be
SUMMARY:RM réunion mensuelle
DESCRIPTION:  \n 
URL:https://gaq.be/nl/evenements/rm-reunion-mensuelle-5/
LOCATION:à déterminer
CATEGORIES:RM Réunion Mensuelle
END:VEVENT
BEGIN:VEVENT
DTSTART;TZID=Europe/Brussels:20220329T200000
DTEND;TZID=Europe/Brussels:20220329T220000
DTSTAMP:20260426T034632
CREATED:20211018T163935Z
LAST-MODIFIED:20211018T163935Z
UID:6656-1648584000-1648591200@gaq.be
SUMMARY:Réunion de l'organe d'administration
DESCRIPTION:  \n 
URL:https://gaq.be/nl/evenements/reunion-de-lorgane-dadministration-5/
LOCATION:l’Estampille\, Rue de Pavie 75\, Bruxelles\, 1000\, Belgique
CATEGORIES:CA Conseil de l'organe d'administration
END:VEVENT
BEGIN:VEVENT
DTSTART;TZID=Europe/Brussels:20220320T120000
DTEND;TZID=Europe/Brussels:20220320T140000
DTSTAMP:20260426T034632
CREATED:20220206T145408Z
LAST-MODIFIED:20220206T145408Z
UID:6807-1647777600-1647784800@gaq.be
SUMMARY:Fête de Printemps
DESCRIPTION:Autour de Marguerite organise une fête de printemps \n 
URL:https://gaq.be/nl/evenements/fete-de-printemps/
LOCATION:Square Marguerite
END:VEVENT
BEGIN:VEVENT
DTSTART;TZID=Europe/Brussels:20220301T200000
DTEND;TZID=Europe/Brussels:20220301T220000
DTSTAMP:20260426T034632
CREATED:20211018T163832Z
LAST-MODIFIED:20211018T163832Z
UID:6654-1646164800-1646172000@gaq.be
SUMMARY:RM réunion mensuelle
DESCRIPTION:  \n 
URL:https://gaq.be/nl/evenements/rm-reunion-mensuelle-4/
LOCATION:à déterminer
CATEGORIES:RM Réunion Mensuelle
END:VEVENT
BEGIN:VEVENT
DTSTART;TZID=Europe/Brussels:20220222T200000
DTEND;TZID=Europe/Brussels:20220222T220000
DTSTAMP:20260426T034632
CREATED:20211018T163719Z
LAST-MODIFIED:20211018T163719Z
UID:6652-1645560000-1645567200@gaq.be
SUMMARY:Réunion de l'organe d'administration
DESCRIPTION:  \n 
URL:https://gaq.be/nl/evenements/reunion-de-lorgane-dadministration-4/
LOCATION:l’Estampille\, Rue de Pavie 75\, Bruxelles\, 1000\, Belgique
CATEGORIES:CA Conseil de l'organe d'administration
END:VEVENT
END:VCALENDAR